Workbook

Sheet LRA Dienstzeitkarte
A1: D i e n s t z e i t k a r t e des Landratsamtes Ilm-Kreis | J1: Stand 08.09.2020
N2: Hilfsfelder,
N3: ohne
A4: Name: | C4: Muster, Christoph-Maria | F4: Einsatzort: | G4: Grundschule Seebergen | J4: Übertrag aus dem Vormonat: | N4: Ausdruck
J5: plus | K5: minus
A6: Monat: | C6: September | F6: Jahr: | G6: 2020 | J6: 0.71041667
K7: 0.5
A8: Wochenstunden | G8: 20 | I8: Stunden | J8: - nur bei 4-Tage-Woche - An welchem Wochentag wird nicht gearbeitet ? | N8: Minuten
A9: Arbeitstage pro Woche | G9: 5 | I9: Tage | K9: --- | N9: -30
A10: durchschnittliche tägliche Arbeitszeit | G10: =($G$8/24)/$G$9 -> 0.16666667 | K10: 0.41666667
A11: Vollzeit- und Teilzeitbeschäftigte tragen hier ihre jeweilige tägliche Arbeitszeit ein, z.B. 6:00 Stunden. | J11: max. Arbeitszeit pro Tag | K11: 0.41666667 | N11: Korr. AZ-Saldo
N12: =ROUND(($N$9/(60))/24,3) -> -0.021
A13: Achtung ! Zeiten immer im Format hh:min eingeben ! Auf den Doppelpunkt achten !
C14: NICHT 0:00 | D14: Pausenzeit eintragen, incl. Frühstücks- und Mittagspause | F14: NICHT 0:00 | G14: Übertrag aus dem Vormonat | K14: Info unter Soll- stunden
A15: Datum | B15: Tag | C15: Dienstzeit Beginn | F15: Dienstzeit Ende | I15: =IF(AND(J$6>0,K$6>0),"unzulässig",IF(J$6>0,J$6,IF(K$6>K$7,"unzulässig",-K$6))) -> 0.71041667
G16: TDZ | H16: Korrektur AZ-Saldo | I16: Arbeitszeit Saldo | J16: Bemerkung | N16: über / unter 10:00h | Q16: Datum | R16: WT | S16: Soll-Stunden | T16: Monat | U16: Monatstag (29-30-31) | V16: WT ohne Soll
A17: 01. | B17: =DATE(($G$6*1),(VLOOKUP($C$6,Auswahl!$A:$B,2,0)),(MID($A17,1,2)*1)) -> 42613 | C17: 0.29166667 | F17: 0.52083333 | G17: =IF(F17=0,"",(F17-C17-D17)) -> 0.22916667 | I17: =IF(G17="",I15+H17,IF(G17>K$11,"10:00"+I15-(IF($R17<6,$S17,0))+H17,I15+(G17-(IF($R17<6,$S17,0)))+H17)) -> 0.77291667 | K17: =IF(G17<(IF($R17<6,$S17,0)),G17-(IF($R17<6,$S17,0)),"") | N17: =IF(F17=0,"",(F17-C17-D17-$K$11)) -> -0.1875 | Q17: =DATE(($G$6)*1,(VLOOKUP($C$6,Auswahl!$A:$B,2,0)),(MID($A17,1,2)*1)) -> 42613 | R17: =WEEKDAY($Q17,2) -> 2 | S17: =IF(R17=V17,0,IF($R17<6,$G$10,0)) -> 0.16666667 | T17: =(MONTH($Q17)) -> 9 | U17: 1 | V17: =IFERROR(VLOOKUP($K$9,Auswahl!$F:$G,2,0),0) -> 0
A18: 02. | B18: =IF((MONTH((DATE(($G$6*1),(VLOOKUP($C$6,Auswahl!$A:$B,2,0)),(MID($A18,1,2)*1)))))=(MONTH((DATE(($G$6*1),(VLOOKUP($C$6,Auswahl!$A:$B,2,0)),(MID($A$17,1,2)*1))))),DATE(($G$6*1),(VLOOKUP($C$6,Auswahl!$A:$B,2,0)),(MID($A18,1,2)*1)),"---") -> 42614 | C18: 0.29166667 | F18: 0.53125 | G18: =IF(F18=0,"",(F18-C18-D18)) -> 0.23958333 | I18: =IF(G18="",I17+H18,IF(G18>K$11,"10:00"+I17-(IF($R18<6,$S18,0))+H18,I17+(G18-(IF($R18<6,$S18,0)))+H18)) -> 0.84583333 | K18: =IF(G18<(IF($R18<6,$S18,0)),G18-(IF($R18<6,$S18,0)),"") | N18: =IF(F18=0,"",(F18-C18-D18-$K$11)) -> -0.17708333 | Q18: =DATE(($G$6)*1,(VLOOKUP($C$6,Auswahl!$A:$B,2,0)),(MID($A18,1,2)*1)) -> 42614 | R18: =WEEKDAY(Q18,2) -> 3 | S18: =IF(R18=V18,0,IF($R18<6,$G$10,0)) -> 0.16666667 | T18: =(MONTH($Q18)) -> 9 | U18: =IF((MONTH($Q18))=(MONTH($Q$17)),1,0) -> 1 | V18: =IFERROR(VLOOKUP($K$9,Auswahl!$F:$G,2,0),0) -> 0
A19: 03. | B19: =IF((MONTH((DATE(($G$6*1),(VLOOKUP($C$6,Auswahl!$A:$B,2,0)),(MID($A19,1,2)*1)))))=(MONTH((DATE(($G$6*1),(VLOOKUP($C$6,Auswahl!$A:$B,2,0)),(MID($A$17,1,2)*1))))),DATE(($G$6*1),(VLOOKUP($C$6,Auswahl!$A:$B,2,0)),(MID($A19,1,2)*1)),"---") -> 42615 | C19: 0.29166667 | F19: 0.29166667 | G19: =IF(F19=0,"",(F19-C19-D19)) -> 0 | I19: =IF(G19="",I18+H19,IF(G19>K$11,"10:00"+I18-(IF($R19<6,$S19,0))+H19,I18+(G19-(IF($R19<6,$S19,0)))+H19)) -> 0.67916667 | K19: =IF(G19<(IF($R19<6,$S19,0)),G19-(IF($R19<6,$S19,0)),"") -> -0.16666667 | N19: =IF(F19=0,"",(F19-C19-D19-$K$11)) -> -0.41666667 | Q19: =DATE(($G$6)*1,(VLOOKUP($C$6,Auswahl!$A:$B,2,0)),(MID($A19,1,2)*1)) -> 42615 | R19: =WEEKDAY(Q19,2) -> 4 | S19: =IF(R19=V19,0,IF($R19<6,$G$10,0)) -> 0.16666667 | T19: =(MONTH($Q19)) -> 9 | U19: =IF((MONTH($Q19))=(MONTH($Q$17)),1,0) -> 1 | V19: =IFERROR(VLOOKUP($K$9,Auswahl!$F:$G,2,0),0) -> 0
A20: 04. | B20: =IF((MONTH((DATE(($G$6*1),(VLOOKUP($C$6,Auswahl!$A:$B,2,0)),(MID($A20,1,2)*1)))))=(MONTH((DATE(($G$6*1),(VLOOKUP($C$6,Auswahl!$A:$B,2,0)),(MID($A$17,1,2)*1))))),DATE(($G$6*1),(VLOOKUP($C$6,Auswahl!$A:$B,2,0)),(MID($A20,1,2)*1)),"---") -> 42616 | C20: 0.29166667 | F20: 0.47916667 | G20: =IF(F20=0,"",(F20-C20-D20)) -> 0.1875 | I20: =IF(G20="",I19+H20,IF(G20>K$11,"10:00"+I19-(IF($R20<6,$S20,0))+H20,I19+(G20-(IF($R20<6,$S20,0)))+H20)) -> 0.7 | K20: =IF(G20<(IF($R20<6,$S20,0)),G20-(IF($R20<6,$S20,0)),"") | N20: =IF(F20=0,"",(F20-C20-D20-$K$11)) -> -0.22916667 | Q20: =DATE(($G$6)*1,(VLOOKUP($C$6,Auswahl!$A:$B,2,0)),(MID($A20,1,2)*1)) -> 42616 | R20: =WEEKDAY(Q20,2) -> 5 | S20: =IF(R20=V20,0,IF($R20<6,$G$10,0)) -> 0.16666667 | T20: =(MONTH($Q20)) -> 9 | U20: =IF((MONTH($Q20))=(MONTH($Q$17)),1,0) -> 1 | V20: =IFERROR(VLOOKUP($K$9,Auswahl!$F:$G,2,0),0) -> 0
A21: 05. | B21: =IF((MONTH((DATE(($G$6*1),(VLOOKUP($C$6,Auswahl!$A:$B,2,0)),(MID($A21,1,2)*1)))))=(MONTH((DATE(($G$6*1),(VLOOKUP($C$6,Auswahl!$A:$B,2,0)),(MID($A$17,1,2)*1))))),DATE(($G$6*1),(VLOOKUP($C$6,Auswahl!$A:$B,2,0)),(MID($A21,1,2)*1)),"---") -> 42617 | G21: =IF(F21=0,"",(F21-C21-D21)) | I21: =IF(G21="",I20+H21,IF(G21>K$11,"10:00"+I20-(IF($R21<6,$S21,0))+H21,I20+(G21-(IF($R21<6,$S21,0)))+H21)) -> 0.7 | J21: Wochenende | K21: =IF(G21<(IF($R21<6,$S21,0)),G21-(IF($R21<6,$S21,0)),"") | N21: =IF(F21=0,"",(F21-C21-D21-$K$11)) | Q21: =DATE(($G$6)*1,(VLOOKUP($C$6,Auswahl!$A:$B,2,0)),(MID($A21,1,2)*1)) -> 42617 | R21: =WEEKDAY(Q21,2) -> 6 | S21: =IF(R21=V21,0,IF($R21<6,$G$10,0)) -> 0 | T21: =(MONTH($Q21)) -> 9 | U21: =IF((MONTH($Q21))=(MONTH($Q$17)),1,0) -> 1 | V21: =IFERROR(VLOOKUP($K$9,Auswahl!$F:$G,2,0),0) -> 0
A22: 06. | B22: =IF((MONTH((DATE(($G$6*1),(VLOOKUP($C$6,Auswahl!$A:$B,2,0)),(MID($A22,1,2)*1)))))=(MONTH((DATE(($G$6*1),(VLOOKUP($C$6,Auswahl!$A:$B,2,0)),(MID($A$17,1,2)*1))))),DATE(($G$6*1),(VLOOKUP($C$6,Auswahl!$A:$B,2,0)),(MID($A22,1,2)*1)),"---") -> 42618 | G22: =IF(F22=0,"",(F22-C22-D22)) | I22: =IF(G22="",I21+H22,IF(G22>K$11,"10:00"+I21-(IF($R22<6,$S22,0))+H22,I21+(G22-(IF($R22<6,$S22,0)))+H22)) -> 0.7 | J22: Wochenende | K22: =IF(G22<(IF($R22<6,$S22,0)),G22-(IF($R22<6,$S22,0)),"") | N22: =IF(F22=0,"",(F22-C22-D22-$K$11)) | Q22: =DATE(($G$6)*1,(VLOOKUP($C$6,Auswahl!$A:$B,2,0)),(MID($A22,1,2)*1)) -> 42618 | R22: =WEEKDAY(Q22,2) -> 7 | S22: =IF(R22=V22,0,IF($R22<6,$G$10,0)) -> 0 | T22: =(MONTH($Q22)) -> 9 | U22: =IF((MONTH($Q22))=(MONTH($Q$17)),1,0) -> 1 | V22: =IFERROR(VLOOKUP($K$9,Auswahl!$F:$G,2,0),0) -> 0
A23: 07. | B23: =IF((MONTH((DATE(($G$6*1),(VLOOKUP($C$6,Auswahl!$A:$B,2,0)),(MID($A23,1,2)*1)))))=(MONTH((DATE(($G$6*1),(VLOOKUP($C$6,Auswahl!$A:$B,2,0)),(MID($A$17,1,2)*1))))),DATE(($G$6*1),(VLOOKUP($C$6,Auswahl!$A:$B,2,0)),(MID($A23,1,2)*1)),"---") -> 42619 | C23: 0.29166667 | G23: =IF(F23=0,"",(F23-C23-D23)) | I23: =IF(G23="",I22+H23,IF(G23>K$11,"10:00"+I22-(IF($R23<6,$S23,0))+H23,I22+(G23-(IF($R23<6,$S23,0)))+H23)) -> 0.7 | K23: =IF(G23<(IF($R23<6,$S23,0)),G23-(IF($R23<6,$S23,0)),"") | N23: =IF(F23=0,"",(F23-C23-D23-$K$11)) | Q23: =DATE(($G$6)*1,(VLOOKUP($C$6,Auswahl!$A:$B,2,0)),(MID($A23,1,2)*1)) -> 42619 | R23: =WEEKDAY(Q23,2) -> 1 | S23: =IF(R23=V23,0,IF($R23<6,$G$10,0)) -> 0.16666667 | T23: =(MONTH($Q23)) -> 9 | U23: =IF((MONTH($Q23))=(MONTH($Q$17)),1,0) -> 1 | V23: =IFERROR(VLOOKUP($K$9,Auswahl!$F:$G,2,0),0) -> 0
A24: 08. | B24: =IF((MONTH((DATE(($G$6*1),(VLOOKUP($C$6,Auswahl!$A:$B,2,0)),(MID($A24,1,2)*1)))))=(MONTH((DATE(($G$6*1),(VLOOKUP($C$6,Auswahl!$A:$B,2,0)),(MID($A$17,1,2)*1))))),DATE(($G$6*1),(VLOOKUP($C$6,Auswahl!$A:$B,2,0)),(MID($A24,1,2)*1)),"---") -> 42620 | G24: =IF(F24=0,"",(F24-C24-D24)) | I24: =IF(G24="",I23+H24,IF(G24>K$11,"10:00"+I23-(IF($R24<6,$S24,0))+H24,I23+(G24-(IF($R24<6,$S24,0)))+H24)) -> 0.7 | K24: =IF(G24<(IF($R24<6,$S24,0)),G24-(IF($R24<6,$S24,0)),"") | N24: =IF(F24=0,"",(F24-C24-D24-$K$11)) | Q24: =DATE(($G$6)*1,(VLOOKUP($C$6,Auswahl!$A:$B,2,0)),(MID($A24,1,2)*1)) -> 42620 | R24: =WEEKDAY(Q24,2) -> 2 | S24: =IF(R24=V24,0,IF($R24<6,$G$10,0)) -> 0.16666667 | T24: =(MONTH($Q24)) -> 9 | U24: =IF((MONTH($Q24))=(MONTH($Q$17)),1,0) -> 1 | V24: =IFERROR(VLOOKUP($K$9,Auswahl!$F:$G,2,0),0) -> 0
A25: 09. | B25: =IF((MONTH((DATE(($G$6*1),(VLOOKUP($C$6,Auswahl!$A:$B,2,0)),(MID($A25,1,2)*1)))))=(MONTH((DATE(($G$6*1),(VLOOKUP($C$6,Auswahl!$A:$B,2,0)),(MID($A$17,1,2)*1))))),DATE(($G$6*1),(VLOOKUP($C$6,Auswahl!$A:$B,2,0)),(MID($A25,1,2)*1)),"---") -> 42621 | G25: =IF(F25=0,"",(F25-C25-D25)) | I25: =IF(G25="",I24+H25,IF(G25>K$11,"10:00"+I24-(IF($R25<6,$S25,0))+H25,I24+(G25-(IF($R25<6,$S25,0)))+H25)) -> 0.7 | K25: =IF(G25<(IF($R25<6,$S25,0)),G25-(IF($R25<6,$S25,0)),"") | N25: =IF(F25=0,"",(F25-C25-D25-$K$11)) | Q25: =DATE(($G$6)*1,(VLOOKUP($C$6,Auswahl!$A:$B,2,0)),(MID($A25,1,2)*1)) -> 42621 | R25: =WEEKDAY(Q25,2) -> 3 | S25: =IF(R25=V25,0,IF($R25<6,$G$10,0)) -> 0.16666667 | T25: =(MONTH($Q25)) -> 9 | U25: =IF((MONTH($Q25))=(MONTH($Q$17)),1,0) -> 1 | V25: =IFERROR(VLOOKUP($K$9,Auswahl!$F:$G,2,0),0) -> 0
A26: 10. | B26: =IF((MONTH((DATE(($G$6*1),(VLOOKUP($C$6,Auswahl!$A:$B,2,0)),(MID($A26,1,2)*1)))))=(MONTH((DATE(($G$6*1),(VLOOKUP($C$6,Auswahl!$A:$B,2,0)),(MID($A$17,1,2)*1))))),DATE(($G$6*1),(VLOOKUP($C$6,Auswahl!$A:$B,2,0)),(MID($A26,1,2)*1)),"---") -> 42622 | G26: =IF(F26=0,"",(F26-C26-D26)) | I26: =IF(G26="",I25+H26,IF(G26>K$11,"10:00"+I25-(IF($R26<6,$S26,0))+H26,I25+(G26-(IF($R26<6,$S26,0)))+H26)) -> 0.7 | K26: =IF(G26<(IF($R26<6,$S26,0)),G26-(IF($R26<6,$S26,0)),"") | N26: =IF(F26=0,"",(F26-C26-D26-$K$11)) | Q26: =DATE(($G$6)*1,(VLOOKUP($C$6,Auswahl!$A:$B,2,0)),(MID($A26,1,2)*1)) -> 42622 | R26: =WEEKDAY(Q26,2) -> 4 | S26: =IF(R26=V26,0,IF($R26<6,$G$10,0)) -> 0.16666667 | T26: =(MONTH($Q26)) -> 9 | U26: =IF((MONTH($Q26))=(MONTH($Q$17)),1,0) -> 1 | V26: =IFERROR(VLOOKUP($K$9,Auswahl!$F:$G,2,0),0) -> 0
A27: 11. | B27: =IF((MONTH((DATE(($G$6*1),(VLOOKUP($C$6,Auswahl!$A:$B,2,0)),(MID($A27,1,2)*1)))))=(MONTH((DATE(($G$6*1),(VLOOKUP($C$6,Auswahl!$A:$B,2,0)),(MID($A$17,1,2)*1))))),DATE(($G$6*1),(VLOOKUP($C$6,Auswahl!$A:$B,2,0)),(MID($A27,1,2)*1)),"---") -> 42623 | G27: =IF(F27=0,"",(F27-C27-D27)) | I27: =IF(G27="",I26+H27,IF(G27>K$11,"10:00"+I26-(IF($R27<6,$S27,0))+H27,I26+(G27-(IF($R27<6,$S27,0)))+H27)) -> 0.7 | K27: =IF(G27<(IF($R27<6,$S27,0)),G27-(IF($R27<6,$S27,0)),"") | N27: =IF(F27=0,"",(F27-C27-D27-$K$11)) | Q27: =DATE(($G$6)*1,(VLOOKUP($C$6,Auswahl!$A:$B,2,0)),(MID($A27,1,2)*1)) -> 42623 | R27: =WEEKDAY(Q27,2) -> 5 | S27: =IF(R27=V27,0,IF($R27<6,$G$10,0)) -> 0.16666667 | T27: =(MONTH($Q27)) -> 9 | U27: =IF((MONTH($Q27))=(MONTH($Q$17)),1,0) -> 1 | V27: =IFERROR(VLOOKUP($K$9,Auswahl!$F:$G,2,0),0) -> 0
A28: 12. | B28: =IF((MONTH((DATE(($G$6*1),(VLOOKUP($C$6,Auswahl!$A:$B,2,0)),(MID($A28,1,2)*1)))))=(MONTH((DATE(($G$6*1),(VLOOKUP($C$6,Auswahl!$A:$B,2,0)),(MID($A$17,1,2)*1))))),DATE(($G$6*1),(VLOOKUP($C$6,Auswahl!$A:$B,2,0)),(MID($A28,1,2)*1)),"---") -> 42624 | G28: =IF(F28=0,"",(F28-C28-D28)) | I28: =IF(G28="",I27+H28,IF(G28>K$11,"10:00"+I27-(IF($R28<6,$S28,0))+H28,I27+(G28-(IF($R28<6,$S28,0)))+H28)) -> 0.7 | J28: Wochenende | K28: =IF(G28<(IF($R28<6,$S28,0)),G28-(IF($R28<6,$S28,0)),"") | N28: =IF(F28=0,"",(F28-C28-D28-$K$11)) | Q28: =DATE(($G$6)*1,(VLOOKUP($C$6,Auswahl!$A:$B,2,0)),(MID($A28,1,2)*1)) -> 42624 | R28: =WEEKDAY(Q28,2) -> 6 | S28: =IF(R28=V28,0,IF($R28<6,$G$10,0)) -> 0 | T28: =(MONTH($Q28)) -> 9 | U28: =IF((MONTH($Q28))=(MONTH($Q$17)),1,0) -> 1 | V28: =IFERROR(VLOOKUP($K$9,Auswahl!$F:$G,2,0),0) -> 0
A29: 13. | B29: =IF((MONTH((DATE(($G$6*1),(VLOOKUP($C$6,Auswahl!$A:$B,2,0)),(MID($A29,1,2)*1)))))=(MONTH((DATE(($G$6*1),(VLOOKUP($C$6,Auswahl!$A:$B,2,0)),(MID($A$17,1,2)*1))))),DATE(($G$6*1),(VLOOKUP($C$6,Auswahl!$A:$B,2,0)),(MID($A29,1,2)*1)),"---") -> 42625 | G29: =IF(F29=0,"",(F29-C29-D29)) | I29: =IF(G29="",I28+H29,IF(G29>K$11,"10:00"+I28-(IF($R29<6,$S29,0))+H29,I28+(G29-(IF($R29<6,$S29,0)))+H29)) -> 0.7 | J29: Wochenende | K29: =IF(G29<(IF($R29<6,$S29,0)),G29-(IF($R29<6,$S29,0)),"") | N29: =IF(F29=0,"",(F29-C29-D29-$K$11)) | Q29: =DATE(($G$6)*1,(VLOOKUP($C$6,Auswahl!$A:$B,2,0)),(MID($A29,1,2)*1)) -> 42625 | R29: =WEEKDAY(Q29,2) -> 7 | S29: =IF(R29=V29,0,IF($R29<6,$G$10,0)) -> 0 | T29: =(MONTH($Q29)) -> 9 | U29: =IF((MONTH($Q29))=(MONTH($Q$17)),1,0) -> 1 | V29: =IFERROR(VLOOKUP($K$9,Auswahl!$F:$G,2,0),0) -> 0
A30: 14. | B30: =IF((MONTH((DATE(($G$6*1),(VLOOKUP($C$6,Auswahl!$A:$B,2,0)),(MID($A30,1,2)*1)))))=(MONTH((DATE(($G$6*1),(VLOOKUP($C$6,Auswahl!$A:$B,2,0)),(MID($A$17,1,2)*1))))),DATE(($G$6*1),(VLOOKUP($C$6,Auswahl!$A:$B,2,0)),(MID($A30,1,2)*1)),"---") -> 42626 | G30: =IF(F30=0,"",(F30-C30-D30)) | I30: =IF(G30="",I29+H30,IF(G30>K$11,"10:00"+I29-(IF($R30<6,$S30,0))+H30,I29+(G30-(IF($R30<6,$S30,0)))+H30)) -> 0.7 | K30: =IF(G30<(IF($R30<6,$S30,0)),G30-(IF($R30<6,$S30,0)),"") | N30: =IF(F30=0,"",(F30-C30-D30-$K$11)) | Q30: =DATE(($G$6)*1,(VLOOKUP($C$6,Auswahl!$A:$B,2,0)),(MID($A30,1,2)*1)) -> 42626 | R30: =WEEKDAY(Q30,2) -> 1 | S30: =IF(R30=V30,0,IF($R30<6,$G$10,0)) -> 0.16666667 | T30: =(MONTH($Q30)) -> 9 | U30: =IF((MONTH($Q30))=(MONTH($Q$17)),1,0) -> 1 | V30: =IFERROR(VLOOKUP($K$9,Auswahl!$F:$G,2,0),0) -> 0
A31: 15. | B31: =IF((MONTH((DATE(($G$6*1),(VLOOKUP($C$6,Auswahl!$A:$B,2,0)),(MID($A31,1,2)*1)))))=(MONTH((DATE(($G$6*1),(VLOOKUP($C$6,Auswahl!$A:$B,2,0)),(MID($A$17,1,2)*1))))),DATE(($G$6*1),(VLOOKUP($C$6,Auswahl!$A:$B,2,0)),(MID($A31,1,2)*1)),"---") -> 42627 | G31: =IF(F31=0,"",(F31-C31-D31)) | I31: =IF(G31="",I30+H31,IF(G31>K$11,"10:00"+I30-(IF($R31<6,$S31,0))+H31,I30+(G31-(IF($R31<6,$S31,0)))+H31)) -> 0.7 | K31: =IF(G31<(IF($R31<6,$S31,0)),G31-(IF($R31<6,$S31,0)),"") | N31: =IF(F31=0,"",(F31-C31-D31-$K$11)) | Q31: =DATE(($G$6)*1,(VLOOKUP($C$6,Auswahl!$A:$B,2,0)),(MID($A31,1,2)*1)) -> 42627 | R31: =WEEKDAY(Q31,2) -> 2 | S31: =IF(R31=V31,0,IF($R31<6,$G$10,0)) -> 0.16666667 | T31: =(MONTH($Q31)) -> 9 | U31: =IF((MONTH($Q31))=(MONTH($Q$17)),1,0) -> 1 | V31: =IFERROR(VLOOKUP($K$9,Auswahl!$F:$G,2,0),0) -> 0
A32: 16. | B32: =IF((MONTH((DATE(($G$6*1),(VLOOKUP($C$6,Auswahl!$A:$B,2,0)),(MID($A32,1,2)*1)))))=(MONTH((DATE(($G$6*1),(VLOOKUP($C$6,Auswahl!$A:$B,2,0)),(MID($A$17,1,2)*1))))),DATE(($G$6*1),(VLOOKUP($C$6,Auswahl!$A:$B,2,0)),(MID($A32,1,2)*1)),"---") -> 42628 | G32: =IF(F32=0,"",(F32-C32-D32)) | I32: =IF(G32="",I31+H32,IF(G32>K$11,"10:00"+I31-(IF($R32<6,$S32,0))+H32,I31+(G32-(IF($R32<6,$S32,0)))+H32)) -> 0.7 | K32: =IF(G32<(IF($R32<6,$S32,0)),G32-(IF($R32<6,$S32,0)),"") | N32: =IF(F32=0,"",(F32-C32-D32-$K$11)) | Q32: =DATE(($G$6)*1,(VLOOKUP($C$6,Auswahl!$A:$B,2,0)),(MID($A32,1,2)*1)) -> 42628 | R32: =WEEKDAY(Q32,2) -> 3 | S32: =IF(R32=V32,0,IF($R32<6,$G$10,0)) -> 0.16666667 | T32: =(MONTH($Q32)) -> 9 | U32: =IF((MONTH($Q32))=(MONTH($Q$17)),1,0) -> 1 | V32: =IFERROR(VLOOKUP($K$9,Auswahl!$F:$G,2,0),0) -> 0
A33: 17. | B33: =IF((MONTH((DATE(($G$6*1),(VLOOKUP($C$6,Auswahl!$A:$B,2,0)),(MID($A33,1,2)*1)))))=(MONTH((DATE(($G$6*1),(VLOOKUP($C$6,Auswahl!$A:$B,2,0)),(MID($A$17,1,2)*1))))),DATE(($G$6*1),(VLOOKUP($C$6,Auswahl!$A:$B,2,0)),(MID($A33,1,2)*1)),"---") -> 42629 | G33: =IF(F33=0,"",(F33-C33-D33)) | I33: =IF(G33="",I32+H33,IF(G33>K$11,"10:00"+I32-(IF($R33<6,$S33,0))+H33,I32+(G33-(IF($R33<6,$S33,0)))+H33)) -> 0.7 | K33: =IF(G33<(IF($R33<6,$S33,0)),G33-(IF($R33<6,$S33,0)),"") | N33: =IF(F33=0,"",(F33-C33-D33-$K$11)) | Q33: =DATE(($G$6)*1,(VLOOKUP($C$6,Auswahl!$A:$B,2,0)),(MID($A33,1,2)*1)) -> 42629 | R33: =WEEKDAY(Q33,2) -> 4 | S33: =IF(R33=V33,0,IF($R33<6,$G$10,0)) -> 0.16666667 | T33: =(MONTH($Q33)) -> 9 | U33: =IF((MONTH($Q33))=(MONTH($Q$17)),1,0) -> 1 | V33: =IFERROR(VLOOKUP($K$9,Auswahl!$F:$G,2,0),0) -> 0
A34: 18. | B34: =IF((MONTH((DATE(($G$6*1),(VLOOKUP($C$6,Auswahl!$A:$B,2,0)),(MID($A34,1,2)*1)))))=(MONTH((DATE(($G$6*1),(VLOOKUP($C$6,Auswahl!$A:$B,2,0)),(MID($A$17,1,2)*1))))),DATE(($G$6*1),(VLOOKUP($C$6,Auswahl!$A:$B,2,0)),(MID($A34,1,2)*1)),"---") -> 42630 | G34: =IF(F34=0,"",(F34-C34-D34)) | I34: =IF(G34="",I33+H34,IF(G34>K$11,"10:00"+I33-(IF($R34<6,$S34,0))+H34,I33+(G34-(IF($R34<6,$S34,0)))+H34)) -> 0.7 | K34: =IF(G34<(IF($R34<6,$S34,0)),G34-(IF($R34<6,$S34,0)),"") | N34: =IF(F34=0,"",(F34-C34-D34-$K$11)) | Q34: =DATE(($G$6)*1,(VLOOKUP($C$6,Auswahl!$A:$B,2,0)),(MID($A34,1,2)*1)) -> 42630 | R34: =WEEKDAY(Q34,2) -> 5 | S34: =IF(R34=V34,0,IF($R34<6,$G$10,0)) -> 0.16666667 | T34: =(MONTH($Q34)) -> 9 | U34: =IF((MONTH($Q34))=(MONTH($Q$17)),1,0) -> 1 | V34: =IFERROR(VLOOKUP($K$9,Auswahl!$F:$G,2,0),0) -> 0
A35: 19. | B35: =IF((MONTH((DATE(($G$6*1),(VLOOKUP($C$6,Auswahl!$A:$B,2,0)),(MID($A35,1,2)*1)))))=(MONTH((DATE(($G$6*1),(VLOOKUP($C$6,Auswahl!$A:$B,2,0)),(MID($A$17,1,2)*1))))),DATE(($G$6*1),(VLOOKUP($C$6,Auswahl!$A:$B,2,0)),(MID($A35,1,2)*1)),"---") -> 42631 | G35: =IF(F35=0,"",(F35-C35-D35)) | I35: =IF(G35="",I34+H35,IF(G35>K$11,"10:00"+I34-(IF($R35<6,$S35,0))+H35,I34+(G35-(IF($R35<6,$S35,0)))+H35)) -> 0.7 | J35: Wochenende | K35: =IF(G35<(IF($R35<6,$S35,0)),G35-(IF($R35<6,$S35,0)),"") | N35: =IF(F35=0,"",(F35-C35-D35-$K$11)) | Q35: =DATE(($G$6)*1,(VLOOKUP($C$6,Auswahl!$A:$B,2,0)),(MID($A35,1,2)*1)) -> 42631 | R35: =WEEKDAY(Q35,2) -> 6 | S35: =IF(R35=V35,0,IF($R35<6,$G$10,0)) -> 0 | T35: =(MONTH($Q35)) -> 9 | U35: =IF((MONTH($Q35))=(MONTH($Q$17)),1,0) -> 1 | V35: =IFERROR(VLOOKUP($K$9,Auswahl!$F:$G,2,0),0) -> 0
A36: 20. | B36: =IF((MONTH((DATE(($G$6*1),(VLOOKUP($C$6,Auswahl!$A:$B,2,0)),(MID($A36,1,2)*1)))))=(MONTH((DATE(($G$6*1),(VLOOKUP($C$6,Auswahl!$A:$B,2,0)),(MID($A$17,1,2)*1))))),DATE(($G$6*1),(VLOOKUP($C$6,Auswahl!$A:$B,2,0)),(MID($A36,1,2)*1)),"---") -> 42632 | G36: =IF(F36=0,"",(F36-C36-D36)) | I36: =IF(G36="",I35+H36,IF(G36>K$11,"10:00"+I35-(IF($R36<6,$S36,0))+H36,I35+(G36-(IF($R36<6,$S36,0)))+H36)) -> 0.7 | J36: Wochenende | K36: =IF(G36<(IF($R36<6,$S36,0)),G36-(IF($R36<6,$S36,0)),"") | N36: =IF(F36=0,"",(F36-C36-D36-$K$11)) | Q36: =DATE(($G$6)*1,(VLOOKUP($C$6,Auswahl!$A:$B,2,0)),(MID($A36,1,2)*1)) -> 42632 | R36: =WEEKDAY(Q36,2) -> 7 | S36: =IF(R36=V36,0,IF($R36<6,$G$10,0)) -> 0 | T36: =(MONTH($Q36)) -> 9 | U36: =IF((MONTH($Q36))=(MONTH($Q$17)),1,0) -> 1 | V36: =IFERROR(VLOOKUP($K$9,Auswahl!$F:$G,2,0),0) -> 0
A37: 21. | B37: =IF((MONTH((DATE(($G$6*1),(VLOOKUP($C$6,Auswahl!$A:$B,2,0)),(MID($A37,1,2)*1)))))=(MONTH((DATE(($G$6*1),(VLOOKUP($C$6,Auswahl!$A:$B,2,0)),(MID($A$17,1,2)*1))))),DATE(($G$6*1),(VLOOKUP($C$6,Auswahl!$A:$B,2,0)),(MID($A37,1,2)*1)),"---") -> 42633 | G37: =IF(F37=0,"",(F37-C37-D37)) | I37: =IF(G37="",I36+H37,IF(G37>K$11,"10:00"+I36-(IF($R37<6,$S37,0))+H37,I36+(G37-(IF($R37<6,$S37,0)))+H37)) -> 0.7 | K37: =IF(G37<(IF($R37<6,$S37,0)),G37-(IF($R37<6,$S37,0)),"") | N37: =IF(F37=0,"",(F37-C37-D37-$K$11)) | Q37: =DATE(($G$6)*1,(VLOOKUP($C$6,Auswahl!$A:$B,2,0)),(MID($A37,1,2)*1)) -> 42633 | R37: =WEEKDAY(Q37,2) -> 1 | S37: =IF(R37=V37,0,IF($R37<6,$G$10,0)) -> 0.16666667 | T37: =(MONTH($Q37)) -> 9 | U37: =IF((MONTH($Q37))=(MONTH($Q$17)),1,0) -> 1 | V37: =IFERROR(VLOOKUP($K$9,Auswahl!$F:$G,2,0),0) -> 0
A38: 22. | B38: =IF((MONTH((DATE(($G$6*1),(VLOOKUP($C$6,Auswahl!$A:$B,2,0)),(MID($A38,1,2)*1)))))=(MONTH((DATE(($G$6*1),(VLOOKUP($C$6,Auswahl!$A:$B,2,0)),(MID($A$17,1,2)*1))))),DATE(($G$6*1),(VLOOKUP($C$6,Auswahl!$A:$B,2,0)),(MID($A38,1,2)*1)),"---") -> 42634 | G38: =IF(F38=0,"",(F38-C38-D38)) | I38: =IF(G38="",I37+H38,IF(G38>K$11,"10:00"+I37-(IF($R38<6,$S38,0))+H38,I37+(G38-(IF($R38<6,$S38,0)))+H38)) -> 0.7 | K38: =IF(G38<(IF($R38<6,$S38,0)),G38-(IF($R38<6,$S38,0)),"") | N38: =IF(F38=0,"",(F38-C38-D38-$K$11)) | Q38: =DATE(($G$6)*1,(VLOOKUP($C$6,Auswahl!$A:$B,2,0)),(MID($A38,1,2)*1)) -> 42634 | R38: =WEEKDAY(Q38,2) -> 2 | S38: =IF(R38=V38,0,IF($R38<6,$G$10,0)) -> 0.16666667 | T38: =(MONTH($Q38)) -> 9 | U38: =IF((MONTH($Q38))=(MONTH($Q$17)),1,0) -> 1 | V38: =IFERROR(VLOOKUP($K$9,Auswahl!$F:$G,2,0),0) -> 0
A39: 23. | B39: =IF((MONTH((DATE(($G$6*1),(VLOOKUP($C$6,Auswahl!$A:$B,2,0)),(MID($A39,1,2)*1)))))=(MONTH((DATE(($G$6*1),(VLOOKUP($C$6,Auswahl!$A:$B,2,0)),(MID($A$17,1,2)*1))))),DATE(($G$6*1),(VLOOKUP($C$6,Auswahl!$A:$B,2,0)),(MID($A39,1,2)*1)),"---") -> 42635 | G39: =IF(F39=0,"",(F39-C39-D39)) | I39: =IF(G39="",I38+H39,IF(G39>K$11,"10:00"+I38-(IF($R39<6,$S39,0))+H39,I38+(G39-(IF($R39<6,$S39,0)))+H39)) -> 0.7 | K39: =IF(G39<(IF($R39<6,$S39,0)),G39-(IF($R39<6,$S39,0)),"") | N39: =IF(F39=0,"",(F39-C39-D39-$K$11)) | Q39: =DATE(($G$6)*1,(VLOOKUP($C$6,Auswahl!$A:$B,2,0)),(MID($A39,1,2)*1)) -> 42635 | R39: =WEEKDAY(Q39,2) -> 3 | S39: =IF(R39=V39,0,IF($R39<6,$G$10,0)) -> 0.16666667 | T39: =(MONTH($Q39)) -> 9 | U39: =IF((MONTH($Q39))=(MONTH($Q$17)),1,0) -> 1 | V39: =IFERROR(VLOOKUP($K$9,Auswahl!$F:$G,2,0),0) -> 0
A40: 24. | B40: =IF((MONTH((DATE(($G$6*1),(VLOOKUP($C$6,Auswahl!$A:$B,2,0)),(MID($A40,1,2)*1)))))=(MONTH((DATE(($G$6*1),(VLOOKUP($C$6,Auswahl!$A:$B,2,0)),(MID($A$17,1,2)*1))))),DATE(($G$6*1),(VLOOKUP($C$6,Auswahl!$A:$B,2,0)),(MID($A40,1,2)*1)),"---") -> 42636 | G40: =IF(F40=0,"",(F40-C40-D40)) | I40: =IF(G40="",I39+H40,IF(G40>K$11,"10:00"+I39-(IF($R40<6,$S40,0))+H40,I39+(G40-(IF($R40<6,$S40,0)))+H40)) -> 0.7 | K40: =IF(G40<(IF($R40<6,$S40,0)),G40-(IF($R40<6,$S40,0)),"") | N40: =IF(F40=0,"",(F40-C40-D40-$K$11)) | Q40: =DATE(($G$6)*1,(VLOOKUP($C$6,Auswahl!$A:$B,2,0)),(MID($A40,1,2)*1)) -> 42636 | R40: =WEEKDAY(Q40,2) -> 4 | S40: =IF(R40=V40,0,IF($R40<6,$G$10,0)) -> 0.16666667 | T40: =(MONTH($Q40)) -> 9 | U40: =IF((MONTH($Q40))=(MONTH($Q$17)),1,0) -> 1 | V40: =IFERROR(VLOOKUP($K$9,Auswahl!$F:$G,2,0),0) -> 0
A41: 25. | B41: =IF((MONTH((DATE(($G$6*1),(VLOOKUP($C$6,Auswahl!$A:$B,2,0)),(MID($A41,1,2)*1)))))=(MONTH((DATE(($G$6*1),(VLOOKUP($C$6,Auswahl!$A:$B,2,0)),(MID($A$17,1,2)*1))))),DATE(($G$6*1),(VLOOKUP($C$6,Auswahl!$A:$B,2,0)),(MID($A41,1,2)*1)),"---") -> 42637 | G41: =IF(F41=0,"",(F41-C41-D41)) | I41: =IF(G41="",I40+H41,IF(G41>K$11,"10:00"+I40-(IF($R41<6,$S41,0))+H41,I40+(G41-(IF($R41<6,$S41,0)))+H41)) -> 0.7 | K41: =IF(G41<(IF($R41<6,$S41,0)),G41-(IF($R41<6,$S41,0)),"") | N41: =IF(F41=0,"",(F41-C41-D41-$K$11)) | Q41: =DATE(($G$6)*1,(VLOOKUP($C$6,Auswahl!$A:$B,2,0)),(MID($A41,1,2)*1)) -> 42637 | R41: =WEEKDAY(Q41,2) -> 5 | S41: =IF(R41=V41,0,IF($R41<6,$G$10,0)) -> 0.16666667 | T41: =(MONTH($Q41)) -> 9 | U41: =IF((MONTH($Q41))=(MONTH($Q$17)),1,0) -> 1 | V41: =IFERROR(VLOOKUP($K$9,Auswahl!$F:$G,2,0),0) -> 0
A42: 26. | B42: =IF((MONTH((DATE(($G$6*1),(VLOOKUP($C$6,Auswahl!$A:$B,2,0)),(MID($A42,1,2)*1)))))=(MONTH((DATE(($G$6*1),(VLOOKUP($C$6,Auswahl!$A:$B,2,0)),(MID($A$17,1,2)*1))))),DATE(($G$6*1),(VLOOKUP($C$6,Auswahl!$A:$B,2,0)),(MID($A42,1,2)*1)),"---") -> 42638 | G42: =IF(F42=0,"",(F42-C42-D42)) | I42: =IF(G42="",I41+H42,IF(G42>K$11,"10:00"+I41-(IF($R42<6,$S42,0))+H42,I41+(G42-(IF($R42<6,$S42,0)))+H42)) -> 0.7 | J42: Wochenende | K42: =IF(G42<(IF($R42<6,$S42,0)),G42-(IF($R42<6,$S42,0)),"") | N42: =IF(F42=0,"",(F42-C42-D42-$K$11)) | Q42: =DATE(($G$6)*1,(VLOOKUP($C$6,Auswahl!$A:$B,2,0)),(MID($A42,1,2)*1)) -> 42638 | R42: =WEEKDAY(Q42,2) -> 6 | S42: =IF(R42=V42,0,IF($R42<6,$G$10,0)) -> 0 | T42: =(MONTH($Q42)) -> 9 | U42: =IF((MONTH($Q42))=(MONTH($Q$17)),1,0) -> 1 | V42: =IFERROR(VLOOKUP($K$9,Auswahl!$F:$G,2,0),0) -> 0
A43: 27. | B43: =IF((MONTH((DATE(($G$6*1),(VLOOKUP($C$6,Auswahl!$A:$B,2,0)),(MID($A43,1,2)*1)))))=(MONTH((DATE(($G$6*1),(VLOOKUP($C$6,Auswahl!$A:$B,2,0)),(MID($A$17,1,2)*1))))),DATE(($G$6*1),(VLOOKUP($C$6,Auswahl!$A:$B,2,0)),(MID($A43,1,2)*1)),"---") -> 42639 | G43: =IF(F43=0,"",(F43-C43-D43)) | I43: =IF(G43="",I42+H43,IF(G43>K$11,"10:00"+I42-(IF($R43<6,$S43,0))+H43,I42+(G43-(IF($R43<6,$S43,0)))+H43)) -> 0.7 | J43: Wochenende | K43: =IF(G43<(IF($R43<6,$S43,0)),G43-(IF($R43<6,$S43,0)),"") | N43: =IF(F43=0,"",(F43-C43-D43-$K$11)) | Q43: =DATE(($G$6)*1,(VLOOKUP($C$6,Auswahl!$A:$B,2,0)),(MID($A43,1,2)*1)) -> 42639 | R43: =WEEKDAY(Q43,2) -> 7 | S43: =IF(R43=V43,0,IF($R43<6,$G$10,0)) -> 0 | T43: =(MONTH($Q43)) -> 9 | U43: =IF((MONTH($Q43))=(MONTH($Q$17)),1,0) -> 1 | V43: =IFERROR(VLOOKUP($K$9,Auswahl!$F:$G,2,0),0) -> 0
A44: 28. | B44: =IF((MONTH((DATE(($G$6*1),(VLOOKUP($C$6,Auswahl!$A:$B,2,0)),(MID($A44,1,2)*1)))))=(MONTH((DATE(($G$6*1),(VLOOKUP($C$6,Auswahl!$A:$B,2,0)),(MID($A$17,1,2)*1))))),DATE(($G$6*1),(VLOOKUP($C$6,Auswahl!$A:$B,2,0)),(MID($A44,1,2)*1)),"---") -> 42640 | G44: =IF(F44=0,"",(F44-C44-D44)) | I44: =IF(G44="",I43+H44,IF(G44>K$11,"10:00"+I43-(IF($R44<6,$S44,0))+H44,I43+(G44-(IF($R44<6,$S44,0)))+H44)) -> 0.7 | K44: =IF(G44<(IF($R44<6,$S44,0)),G44-(IF($R44<6,$S44,0)),"") | N44: =IF(F44=0,"",(F44-C44-D44-$K$11)) | Q44: =DATE(($G$6)*1,(VLOOKUP($C$6,Auswahl!$A:$B,2,0)),(MID($A44,1,2)*1)) -> 42640 | R44: =WEEKDAY(Q44,2) -> 1 | S44: =IF(R44=V44,0,IF($R44<6,$G$10,0)) -> 0.16666667 | T44: =(MONTH($Q44)) -> 9 | U44: =IF((MONTH($Q44))=(MONTH($Q$17)),1,0) -> 1 | V44: =IFERROR(VLOOKUP($K$9,Auswahl!$F:$G,2,0),0) -> 0
A45: 29. | B45: =IF((MONTH((DATE(($G$6*1),(VLOOKUP($C$6,Auswahl!$A:$B,2,0)),(MID($A45,1,2)*1)))))=(MONTH((DATE(($G$6*1),(VLOOKUP($C$6,Auswahl!$A:$B,2,0)),(MID($A$17,1,2)*1))))),DATE(($G$6*1),(VLOOKUP($C$6,Auswahl!$A:$B,2,0)),(MID($A45,1,2)*1)),"---") -> 42641 | G45: =IF(F45=0,"",(F45-C45-D45)) | I45: =IF(G45="",I44+H45,IF(G45>K$11,"10:00"+I44-(IF($R45<6,$S45,0))+H45,I44+(G45-(IF($R45<6,$S45,0)))+H45)) -> 0.7 | K45: =IF(G45<(IF($R45<6,$S45,0)),G45-(IF($R45<6,$S45,0)),"") | N45: =IF(F45=0,"",(F45-C45-D45-$K$11)) | Q45: =DATE(($G$6)*1,(VLOOKUP($C$6,Auswahl!$A:$B,2,0)),(MID($A45,1,2)*1)) -> 42641 | R45: =WEEKDAY(Q45,2) -> 2 | S45: =IF(R45=V45,0,IF($R45<6,$G$10,0)) -> 0.16666667 | T45: =(MONTH($Q45)) -> 9 | U45: =IF((MONTH($Q45))=(MONTH($Q$17)),1,0) -> 1 | V45: =IFERROR(VLOOKUP($K$9,Auswahl!$F:$G,2,0),0) -> 0
A46: 30. | B46: =IF((MONTH((DATE(($G$6*1),(VLOOKUP($C$6,Auswahl!$A:$B,2,0)),(MID($A46,1,2)*1)))))=(MONTH((DATE(($G$6*1),(VLOOKUP($C$6,Auswahl!$A:$B,2,0)),(MID($A$17,1,2)*1))))),DATE(($G$6*1),(VLOOKUP($C$6,Auswahl!$A:$B,2,0)),(MID($A46,1,2)*1)),"---") -> 42642 | G46: =IF(F46=0,"",(F46-C46-D46)) | I46: =IF(G46="",I45+H46,IF(G46>K$11,"10:00"+I45-(IF($R46<6,$S46,0))+H46,I45+(G46-(IF($R46<6,$S46,0)))+H46)) -> 0.7 | K46: =IF(G46<(IF($R46<6,$S46,0)),G46-(IF($R46<6,$S46,0)),"") | N46: =IF(F46=0,"",(F46-C46-D46-$K$11)) | Q46: =DATE(($G$6)*1,(VLOOKUP($C$6,Auswahl!$A:$B,2,0)),(MID($A46,1,2)*1)) -> 42642 | R46: =WEEKDAY(Q46,2) -> 3 | S46: =IF(R46=V46,0,IF($R46<6,$G$10,0)) -> 0.16666667 | T46: =(MONTH($Q46)) -> 9 | U46: =IF((MONTH($Q46))=(MONTH($Q$17)),1,0) -> 1 | V46: =IFERROR(VLOOKUP($K$9,Auswahl!$F:$G,2,0),0) -> 0
A47: 31. | B47: =IF((MONTH((DATE(($G$6*1),(VLOOKUP($C$6,Auswahl!$A:$B,2,0)),(MID($A47,1,2)*1)))))=(MONTH((DATE(($G$6*1),(VLOOKUP($C$6,Auswahl!$A:$B,2,0)),(MID($A$17,1,2)*1))))),DATE(($G$6*1),(VLOOKUP($C$6,Auswahl!$A:$B,2,0)),(MID($A47,1,2)*1)),"---") -> --- | G47: =IF(F47=0,"",(F47-C47-D47)) | I47: =IF(G47="",I46+H47,IF(G47>K$11,"10:00"+I46-(IF($R47<6,$S47,0))+H47,I46+(G47-(IF($R47<6,$S47,0)))+H47)) -> 0.7 | K47: =IF(G47<(IF($R47<6,$S47,0)),G47-(IF($R47<6,$S47,0)),"") | N47: =IF(F47=0,"",(F47-C47-D47-$K$11)) | Q47: =DATE(($G$6)*1,(VLOOKUP($C$6,Auswahl!$A:$B,2,0)),(MID($A47,1,2)*1)) -> 42643 | R47: =WEEKDAY(Q47,2) -> 4 | S47: =IF(R47=V47,0,IF($R47<6,$G$10,0)) -> 0.16666667 | T47: =(MONTH($Q47)) -> 10 | U47: =IF((MONTH($Q47))=(MONTH($Q$17)),1,0) -> 0 | V47: =IFERROR(VLOOKUP($K$9,Auswahl!$F:$G,2,0),0) -> 0
A48: Übertrag in den Folgemonat (max + 80 Std.; min – 12 Std.) | I48: =I47 -> 0.7
A49: Übertrag in Folgemonat | C49: maximal | D49: minimal
A50: TDZ – Tägliche Dienstzeit (abzüglichPausen)
A51: Arbeitszeit Saldo – Summe der Differenzen zur täglichen Arbeitszeit
A53: Die maximale Arbeitszeit pro Tag darf 10h nicht überschreiten, es sei denn, die Mehrstunden sind angeordnet. Bei Elternabenden u.ä. Veranstaltungen (Bemerkungen) ist die Differenz bei "Korrektur AZ-Saldo" einzutragen. Der berechnete Arbeitszeit-Saldo wird damit angepasst. D.h. die Mehrstunden über 10 Stunden sind in der "Korrektur AZ-Saldo" manuell zu ergänzen. FZA ganzer Tag: Beginn und Ende die gleiche Zeit eintragen, keine Pause, kein 0:00. Bei Arbeiten an Wochenenden wird keine "Sollarbeitszeit" gegengerechnet. Bei
A55: Hiermit versichere ich, die Angaben auf dieser Dienstzeitkarte
A56: wahrheitsgemäß gemacht zu haben.
A58: Für diesen Monat habe ich eine Dienstzeitüberschreitung von
A61: =I48 -> 0.7 | D61: Stunden
A65: die auf den folgenden Monat übertragen wird.
A69: Datum: .................................................
A72: ...............................................................
A73: Unterschrift des Mitarbeiters
A77: Die oben gemachten Angaben und die Zeitaufstellung laut Dienstzeitkarte sind
A78: sachlich und rechnerisch richtig.
A82: Datum: .................................................
A85: ...................................................
A86: Unterschrift des Leiters

Sheet Auswahl
A1: Monate | B1: MM | C1: Jahre | F1: WT | G1: WT#
A2: Januar | B2: 1 | C2: 2020 | F2: --- | G2: 0
A3: Februar | B3: 2 | C3: 2021 | F3: Mo | G3: 1
A4: März | B4: 3 | C4: 2022 | F4: Di | G4: 2
A5: April | B5: 4 | C5: 2023 | F5: Mi | G5: 3
A6: Mai | B6: 5 | C6: 2024 | F6: Do | G6: 4
A7: Juni | B7: 6 | C7: 2025 | F7: Fr | G7: 5
A8: Juli | B8: 7 | C8: 2026 | F8: Sa | G8: 6
A9: August | B9: 8 | C9: 2027 | F9: So | G9: 7
A10: September | B10: 9 | C10: 2028
A11: Oktober | B11: 10 | C11: 2029
A12: November | B12: 11 | C12: 2030
A13: Dezember | B13: 12 | C13: 2031
C14: 2032
C15: 2033
C16: 2034
C17: 2035
C18: 2036
C19: 2037
C20: 2038
C21: 2039
C22: 2040
C23: 2041
C24: 2042
C25: 2043
... C32: 2050
