Workbook
Name Monat: INFO!$B$1:$C$13

Sheet Fahrtenbuch
A1: Name, Vorname: | D1: Mustermann, Max | K1: Personalnummer: | M1: 9999 | R1: Institut: | S1: Bank oder Sparkasse | W1: Abrechnungsmonat:
A2: Amt / Dienststelle: | D2: Amt / Sachgebiet | K2: KFZ-Kennzeichen: | M2: IK-XXYYY | R2: IBAN: | S2: DE00 9999 8888 7777 6666 55 | W2: =IF(C5="","",YEAR($C$5))&" / "&IF(C5="","",VLOOKUP((MONTH(C5)),INFO!$A:$C,2,0)) -> /
A3: Dienststelle (DS): | D3: Sachgebiet, Ritterstraße 14, 99310 Arnstadt | K3: Wohnort (WO): | M3: Musterstr. 99, OT Musterdorf, 99999 Musterstadt | R3: Entfernung DS-WO: | U3: 99
A4: # | B4: JJJJ-MM | C4: Datum | D4: WT | E4: Zeit von | F4: Zeit bis | G4: HO Home- Office | H4: Start-Ort | I4: Fahrstrecke / Ziel WO - ……………………………...……….. - DS | K4: Stop-Ort | L4: Grund | N4: km-Stand Start | O4: km-Stand Ende | P4: km geschäftl | Q4: km Wohn./Arbeit | R4: Fahrer | S4: geschft. km a 0,38 € / HO a 0,20 € | U4: abz. Wohn.-Arb. km a 0,20 € | V4: Summe | W4: ="Summe Monat "&"("&SUBTOTAL(9,$W$5:$W$34)&" €)" -> Summe Monat (0 €) | X4: ="gesch. km / Monat "&"("&SUBTOTAL(9,$X$5:$X$34)&" km)" -> gesch. km / Monat (0 km)
A5: 1 | B5: =IF(C5="","",YEAR($C5)&"-"&(VLOOKUP((MONTH($C5)),INFO!$A:$C,3,0))) | D5: =IF(C5="","",C5) | P5: =IF(O5="","",O5-N5) | Q5: =IF(O5="","",IFERROR(VLOOKUP((IF(OR(H5="",K5=""),"",H5&K5)),INFO!$I$1:$J$4,2,0),"Start-Stop-Ort")) | R5: =IF(O5="","",$D$1) | S5: =IF(OR(H5="",K5=""),"",(P5)*(IF(G5="HO",0.2,0.38))) | T5: =IF(O5="","",IF(G5="HO",0.2,0.38)) | U5: =IF(OR(H5="",K5=""),"",IF(G5="HO",0,Q5*0.2)) | V5: =IF(OR(H5="",K5=""),"",IF(U5>S5,0,S5-U5)) | W5: =IF($B5=$B6,"",SUMIF($B:$B,$B5,$V:$V)) | X5: =IF($B5=$B6,"",SUMIF($B:$B,$B5,$P:$P))
A6: 2 | B6: =IF(C6="","",YEAR($C6)&"-"&(VLOOKUP((MONTH($C6)),INFO!$A:$C,3,0))) | D6: =IF(C6="","",C6) | P6: =IF(O6="","",O6-N6) | Q6: =IF(O6="","",IFERROR(VLOOKUP((IF(OR(H6="",K6=""),"",H6&K6)),INFO!$I$1:$J$4,2,0),"Start-Stop-Ort")) | R6: =IF(O6="","",$D$1) | S6: =IF(OR(H6="",K6=""),"",(P6)*(IF(G6="HO",0.2,0.38))) | T6: =IF(O6="","",IF(G6="HO",0.2,0.38)) | U6: =IF(OR(H6="",K6=""),"",IF(G6="HO",0,Q6*0.2)) | V6: =IF(OR(H6="",K6=""),"",IF(U6>S6,0,S6-U6)) | W6: =IF($B6=$B7,"",SUMIF($B:$B,$B6,$V:$V)) | X6: =IF($B6=$B7,"",SUMIF($B:$B,$B6,$P:$P))
A7: 3 | B7: =IF(C7="","",YEAR($C7)&"-"&(VLOOKUP((MONTH($C7)),INFO!$A:$C,3,0))) | D7: =IF(C7="","",C7) | P7: =IF(O7="","",O7-N7) | Q7: =IF(O7="","",IFERROR(VLOOKUP((IF(OR(H7="",K7=""),"",H7&K7)),INFO!$I$1:$J$4,2,0),"Start-Stop-Ort")) | R7: =IF(O7="","",$D$1) | S7: =IF(OR(H7="",K7=""),"",(P7)*(IF(G7="HO",0.2,0.38))) | T7: =IF(O7="","",IF(G7="HO",0.2,0.38)) | U7: =IF(OR(H7="",K7=""),"",IF(G7="HO",0,Q7*0.2)) | V7: =IF(OR(H7="",K7=""),"",IF(U7>S7,0,S7-U7)) | W7: =IF($B7=$B8,"",SUMIF($B:$B,$B7,$V:$V)) | X7: =IF($B7=$B8,"",SUMIF($B:$B,$B7,$P:$P))
A8: 4 | B8: =IF(C8="","",YEAR($C8)&"-"&(VLOOKUP((MONTH($C8)),INFO!$A:$C,3,0))) | D8: =IF(C8="","",C8) | P8: =IF(O8="","",O8-N8) | Q8: =IF(O8="","",IFERROR(VLOOKUP((IF(OR(H8="",K8=""),"",H8&K8)),INFO!$I$1:$J$4,2,0),"Start-Stop-Ort")) | R8: =IF(O8="","",$D$1) | S8: =IF(OR(H8="",K8=""),"",(P8)*(IF(G8="HO",0.2,0.38))) | T8: =IF(O8="","",IF(G8="HO",0.2,0.38)) | U8: =IF(OR(H8="",K8=""),"",IF(G8="HO",0,Q8*0.2)) | V8: =IF(OR(H8="",K8=""),"",IF(U8>S8,0,S8-U8)) | W8: =IF($B8=$B9,"",SUMIF($B:$B,$B8,$V:$V)) | X8: =IF($B8=$B9,"",SUMIF($B:$B,$B8,$P:$P))
A9: 5 | B9: =IF(C9="","",YEAR($C9)&"-"&(VLOOKUP((MONTH($C9)),INFO!$A:$C,3,0))) | D9: =IF(C9="","",C9) | P9: =IF(O9="","",O9-N9) | Q9: =IF(O9="","",IFERROR(VLOOKUP((IF(OR(H9="",K9=""),"",H9&K9)),INFO!$I$1:$J$4,2,0),"Start-Stop-Ort")) | R9: =IF(O9="","",$D$1) | S9: =IF(OR(H9="",K9=""),"",(P9)*(IF(G9="HO",0.2,0.38))) | T9: =IF(O9="","",IF(G9="HO",0.2,0.38)) | U9: =IF(OR(H9="",K9=""),"",IF(G9="HO",0,Q9*0.2)) | V9: =IF(OR(H9="",K9=""),"",IF(U9>S9,0,S9-U9)) | W9: =IF($B9=$B10,"",SUMIF($B:$B,$B9,$V:$V)) | X9: =IF($B9=$B10,"",SUMIF($B:$B,$B9,$P:$P))
A10: 6 | B10: =IF(C10="","",YEAR($C10)&"-"&(VLOOKUP((MONTH($C10)),INFO!$A:$C,3,0))) | D10: =IF(C10="","",C10) | P10: =IF(O10="","",O10-N10) | Q10: =IF(O10="","",IFERROR(VLOOKUP((IF(OR(H10="",K10=""),"",H10&K10)),INFO!$I$1:$J$4,2,0),"Start-Stop-Ort")) | R10: =IF(O10="","",$D$1) | S10: =IF(OR(H10="",K10=""),"",(P10)*(IF(G10="HO",0.2,0.38))) | T10: =IF(O10="","",IF(G10="HO",0.2,0.38)) | U10: =IF(OR(H10="",K10=""),"",IF(G10="HO",0,Q10*0.2)) | V10: =IF(OR(H10="",K10=""),"",IF(U10>S10,0,S10-U10)) | W10: =IF($B10=$B11,"",SUMIF($B:$B,$B10,$V:$V)) | X10: =IF($B10=$B11,"",SUMIF($B:$B,$B10,$P:$P))
A11: 7 | B11: =IF(C11="","",YEAR($C11)&"-"&(VLOOKUP((MONTH($C11)),INFO!$A:$C,3,0))) | D11: =IF(C11="","",C11) | P11: =IF(O11="","",O11-N11) | Q11: =IF(O11="","",IFERROR(VLOOKUP((IF(OR(H11="",K11=""),"",H11&K11)),INFO!$I$1:$J$4,2,0),"Start-Stop-Ort")) | R11: =IF(O11="","",$D$1) | S11: =IF(OR(H11="",K11=""),"",(P11)*(IF(G11="HO",0.2,0.38))) | T11: =IF(O11="","",IF(G11="HO",0.2,0.38)) | U11: =IF(OR(H11="",K11=""),"",IF(G11="HO",0,Q11*0.2)) | V11: =IF(OR(H11="",K11=""),"",IF(U11>S11,0,S11-U11)) | W11: =IF($B11=$B12,"",SUMIF($B:$B,$B11,$V:$V)) | X11: =IF($B11=$B12,"",SUMIF($B:$B,$B11,$P:$P))
A12: 8 | B12: =IF(C12="","",YEAR($C12)&"-"&(VLOOKUP((MONTH($C12)),INFO!$A:$C,3,0))) | D12: =IF(C12="","",C12) | P12: =IF(O12="","",O12-N12) | Q12: =IF(O12="","",IFERROR(VLOOKUP((IF(OR(H12="",K12=""),"",H12&K12)),INFO!$I$1:$J$4,2,0),"Start-Stop-Ort")) | R12: =IF(O12="","",$D$1) | S12: =IF(OR(H12="",K12=""),"",(P12)*(IF(G12="HO",0.2,0.38))) | T12: =IF(O12="","",IF(G12="HO",0.2,0.38)) | U12: =IF(OR(H12="",K12=""),"",IF(G12="HO",0,Q12*0.2)) | V12: =IF(OR(H12="",K12=""),"",IF(U12>S12,0,S12-U12)) | W12: =IF($B12=$B13,"",SUMIF($B:$B,$B12,$V:$V)) | X12: =IF($B12=$B13,"",SUMIF($B:$B,$B12,$P:$P))
A13: 9 | B13: =IF(C13="","",YEAR($C13)&"-"&(VLOOKUP((MONTH($C13)),INFO!$A:$C,3,0))) | D13: =IF(C13="","",C13) | P13: =IF(O13="","",O13-N13) | Q13: =IF(O13="","",IFERROR(VLOOKUP((IF(OR(H13="",K13=""),"",H13&K13)),INFO!$I$1:$J$4,2,0),"Start-Stop-Ort")) | R13: =IF(O13="","",$D$1) | S13: =IF(OR(H13="",K13=""),"",(P13)*(IF(G13="HO",0.2,0.38))) | T13: =IF(O13="","",IF(G13="HO",0.2,0.38)) | U13: =IF(OR(H13="",K13=""),"",IF(G13="HO",0,Q13*0.2)) | V13: =IF(OR(H13="",K13=""),"",IF(U13>S13,0,S13-U13)) | W13: =IF($B13=$B14,"",SUMIF($B:$B,$B13,$V:$V)) | X13: =IF($B13=$B14,"",SUMIF($B:$B,$B13,$P:$P))
A14: 10 | B14: =IF(C14="","",YEAR($C14)&"-"&(VLOOKUP((MONTH($C14)),INFO!$A:$C,3,0))) | D14: =IF(C14="","",C14) | P14: =IF(O14="","",O14-N14) | Q14: =IF(O14="","",IFERROR(VLOOKUP((IF(OR(H14="",K14=""),"",H14&K14)),INFO!$I$1:$J$4,2,0),"Start-Stop-Ort")) | R14: =IF(O14="","",$D$1) | S14: =IF(OR(H14="",K14=""),"",(P14)*(IF(G14="HO",0.2,0.38))) | T14: =IF(O14="","",IF(G14="HO",0.2,0.38)) | U14: =IF(OR(H14="",K14=""),"",IF(G14="HO",0,Q14*0.2)) | V14: =IF(OR(H14="",K14=""),"",IF(U14>S14,0,S14-U14)) | W14: =IF($B14=$B15,"",SUMIF($B:$B,$B14,$V:$V)) | X14: =IF($B14=$B15,"",SUMIF($B:$B,$B14,$P:$P))
A15: 11 | B15: =IF(C15="","",YEAR($C15)&"-"&(VLOOKUP((MONTH($C15)),INFO!$A:$C,3,0))) | D15: =IF(C15="","",C15) | P15: =IF(O15="","",O15-N15) | Q15: =IF(O15="","",IFERROR(VLOOKUP((IF(OR(H15="",K15=""),"",H15&K15)),INFO!$I$1:$J$4,2,0),"Start-Stop-Ort")) | R15: =IF(O15="","",$D$1) | S15: =IF(OR(H15="",K15=""),"",(P15)*(IF(G15="HO",0.2,0.38))) | T15: =IF(O15="","",IF(G15="HO",0.2,0.38)) | U15: =IF(OR(H15="",K15=""),"",IF(G15="HO",0,Q15*0.2)) | V15: =IF(OR(H15="",K15=""),"",IF(U15>S15,0,S15-U15)) | W15: =IF($B15=$B16,"",SUMIF($B:$B,$B15,$V:$V)) | X15: =IF($B15=$B16,"",SUMIF($B:$B,$B15,$P:$P))
A16: 12 | B16: =IF(C16="","",YEAR($C16)&"-"&(VLOOKUP((MONTH($C16)),INFO!$A:$C,3,0))) | D16: =IF(C16="","",C16) | P16: =IF(O16="","",O16-N16) | Q16: =IF(O16="","",IFERROR(VLOOKUP((IF(OR(H16="",K16=""),"",H16&K16)),INFO!$I$1:$J$4,2,0),"Start-Stop-Ort")) | R16: =IF(O16="","",$D$1) | S16: =IF(OR(H16="",K16=""),"",(P16)*(IF(G16="HO",0.2,0.38))) | T16: =IF(O16="","",IF(G16="HO",0.2,0.38)) | U16: =IF(OR(H16="",K16=""),"",IF(G16="HO",0,Q16*0.2)) | V16: =IF(OR(H16="",K16=""),"",IF(U16>S16,0,S16-U16)) | W16: =IF($B16=$B17,"",SUMIF($B:$B,$B16,$V:$V)) | X16: =IF($B16=$B17,"",SUMIF($B:$B,$B16,$P:$P))
... A34: 30 | B34: =IF(C34="","",YEAR($C34)&"-"&(VLOOKUP((MONTH($C34)),INFO!$A:$C,3,0))) | D34: =IF(C34="","",C34) | P34: =IF(O34="","",O34-N34) | Q34: =IF(O34="","",IFERROR(VLOOKUP((IF(OR(H34="",K34=""),"",H34&K34)),INFO!$I$1:$J$4,2,0),"Start-Stop-Ort")) | R34: =IF(O34="","",$D$1) | S34: =IF(OR(H34="",K34=""),"",(P34)*(IF(G34="HO",0.2,0.38))) | T34: =IF(O34="","",IF(G34="HO",0.2,0.38)) | U34: =IF(OR(H34="",K34=""),"",IF(G34="HO",0,Q34*0.2)) | V34: =IF(OR(H34="",K34=""),"",IF(U34>S34,0,S34-U34)) | W34: =IF($B34=$B35,"",SUMIF($B:$B,$B34,$V:$V)) | X34: =IF($B34=$B35,"",SUMIF($B:$B,$B34,$P:$P))
B36: Amtsleitung | D36: (Sachlichkeit, Datum, Unterschrift) | S36: für die Richtigkeit der Angaben
B38: Personalamt | D38: (Sachlichkeit, Datum, Unterschrift) | S38: (Datum, Unterschrift)

Sheet INFO
A1: mo | B1: Monat | C1: MN | E1: HO | G1: DS | I1: WOWO | J1: =Fahrtenbuch!$U$3*2 -> 198
A2: 1 | B2: Januar | C2: 01 | E2: -- | G2: WO | I2: DSWO | J2: =Fahrtenbuch!$U$3 -> 99
A3: 2 | B3: Februar | C3: 02 | I3: WODS | J3: =Fahrtenbuch!$U$3 -> 99
A4: 3 | B4: März | C4: 03 | I4: DSDS | J4: 0
A5: 4 | B5: April | C5: 04
A6: 5 | B6: Mai | C6: 05
A7: 6 | B7: Juni | C7: 06
A8: 7 | B8: Juli | C8: 07
A9: 8 | B9: August | C9: 08
A10: 9 | B10: September | C10: 09
A11: 10 | B11: Oktober | C11: 10
A12: 11 | B12: November | C12: 11
A13: 12 | B13: Dezember | C13: 12
